BEGIN:VCALENDAR
VERSION:2.0
PRODID:-//Francis Bacon Research Trust - ECPv6.15.20//NONSGML v1.0//EN
CALSCALE:GREGORIAN
METHOD:PUBLISH
X-WR-CALNAME:Francis Bacon Research Trust
X-ORIGINAL-URL:https://www.fbrt.org.uk
X-WR-CALDESC:Events for Francis Bacon Research Trust
REFRESH-INTERVAL;VALUE=DURATION:PT1H
X-Robots-Tag:noindex
X-PUBLISHED-TTL:PT1H
BEGIN:VTIMEZONE
TZID:Europe/London
BEGIN:DAYLIGHT
TZOFFSETFROM:+0000
TZOFFSETTO:+0100
TZNAME:BST
DTSTART:20250330T010000
END:DAYLIGHT
BEGIN:STANDARD
TZOFFSETFROM:+0100
TZOFFSETTO:+0000
TZNAME:GMT
DTSTART:20251026T010000
END:STANDARD
BEGIN:DAYLIGHT
TZOFFSETFROM:+0000
TZOFFSETTO:+0100
TZNAME:BST
DTSTART:20260329T010000
END:DAYLIGHT
BEGIN:STANDARD
TZOFFSETFROM:+0100
TZOFFSETTO:+0000
TZNAME:GMT
DTSTART:20261025T010000
END:STANDARD
BEGIN:DAYLIGHT
TZOFFSETFROM:+0000
TZOFFSETTO:+0100
TZNAME:BST
DTSTART:20270328T010000
END:DAYLIGHT
BEGIN:STANDARD
TZOFFSETFROM:+0100
TZOFFSETTO:+0000
TZNAME:GMT
DTSTART:20271031T010000
END:STANDARD
END:VTIMEZONE
BEGIN:VEVENT
DTSTART;TZID=Europe/London:20260621T170000
DTEND;TZID=Europe/London:20260621T183000
DTSTAMP:20260422T144243
CREATED:20251110T171010Z
LAST-MODIFIED:20260303T103525Z
UID:4578-1782061200-1782066600@www.fbrt.org.uk
SUMMARY:The Mystery of the Two Johns\, Baptist and Beloved
DESCRIPTION:A talk on Zoom by Peter Dawkins about the mystery of John the Baptist and John the Beloved\, the different roles they played whilst sharing the same name\, and the eternal wisdom and divine law of which they are manifestations – a law that involves all of us. \nThis mystery involves the Double Truth of polarity\, twinship\, and initiation\, with its lesser and greater mysteries\, and how their roles were adopted by the Bacon brothers\, Francis and Anthony. \nThe mystery also involves Time\, with its daily\, annual\, and larger cycles of time\, such as a Great Age\, and the poles of time and process of life – a process in which we are all engaged\, all of the time. \nTo book\, please contact the Organiser (FBRT). \nIf booking accepted\, on receipt of payment\, the Zoom link will be sent to you. \nA recording of the talk (but not of the sharing afterwards) can be made available for attendees if requested\, as also for those who pay for the talk but do not attend it live on Zoom. Please contact the Organiser (FBRT). \nThe displayed picture is a coloured version of the AA headpiece printed in the 1593 Shakespeare poem Venus and Adonis.
URL:https://www.fbrt.org.uk/event/the-mystery-of-the-two-johns-baptist-and-beloved/
CATEGORIES:Zoom talk
ATTACH;FMTTYPE=image/jpeg:https://www.fbrt.org.uk/wp-content/uploads/2025/11/sh_va_1593_AA-headpiece_colour--scaled.jpg
ORGANIZER;CN="FBRT":MAILTO:info@fbrt.org.uk
END:VEVENT
BEGIN:VEVENT
DTSTART;TZID=Europe/London:20260625T180000
DTEND;TZID=Europe/London:20260625T193000
DTSTAMP:20260422T144243
CREATED:20260421T133048Z
LAST-MODIFIED:20260421T170034Z
UID:4922-1782410400-1782415800@www.fbrt.org.uk
SUMMARY:The Fourth Level of the Seven-Stepped Pyramid & Meaning of Salt in the Mystery Traditions
DESCRIPTION:A talk on Zoom by Peter Dawkins explaining the background to what we call the “Swan Flight through the Seven Heavens of the Rosicrucian Mysteries”\, why the hybrid pilgrimage to Lüneburg and Rosengarten in northern Germany is taking place\, and the symbolic meaning of salt. \nPeter will talk about the Swan landscape temple of Europe\, and particularly about the Exterland Zodiac centred on the Externsteine in Horn-Bad Meinberg\, Germany\, which forms the Swan’s throat chakra\, and the seven areas north of the Exterland that culminate in the area focused on Gottorf Castle\, which forms the Swan’s alta-major chakra. \nPeter will explain how these seven areas of landscape correspond to the seven levels of a seven-stepped pyramid\, how these symbolise the traditional seven heavens of soul consciousness\, and how we are in the process of discovering that certain places in these seven areas of Germany became focal points of the Rosicrucians during the 17th and 18th centuries. \nPeter will also summarise how and why we have been instructed to establish a metaphorical pyramid ‘rising’ from the Exterland Zodiac by visiting these key Rosicrucian places at key times in the years 2020-2032\, and what it means in terms of Swan consciousness\, and indeed what the Swan symbolises. \nPeter will then talk about the meaning of salt\, as understood in the Mystery traditions\, and why the visit to Lüneburg\, a town built on top of a massive salt dome\, is so important as a marker for the fourth level of the pyramid\, or fourth heaven of soul consciousness. \nThe talk will be in English\, with concurrent translation into German by Heidemarie Falldorf. \nThis talk on Zoom forms part of the hybrid ‘Fourth Heaven’ event and is open to participants and non-participants. \nCost £15. To book\, please contact the FBRT Secretary: \nEmail: sarah@fbrt.org.uk. Tel: 01295 678 623. \nOn receipt of payment\, the Zoom link will be sent to you. \nA recording of the talk can be made available for attendees if requested\, as also for those who pay for the talk but do not attend it live on Zoom. Please contact the FBRT Secretary. \nThe displayed picture is a coloured version of the Bride-Gemini headpiece printed in the 1624 Cryptomenytices et Cryptographiae by Gustavus Selenus (Augustus II\, the Duke of Brunswick-Lüneburg).
URL:https://www.fbrt.org.uk/event/the-fourth-level-of-the-seven-stepped-pyramid-meaning-of-salt-in-the-mystery-traditions/
CATEGORIES:Zoom talk
ATTACH;FMTTYPE=image/jpeg:https://www.fbrt.org.uk/wp-content/uploads/2024/08/Bride_Gemini_headpiece_Cryptomentitices_1634_colour-scaled.jpg
ORGANIZER;CN="FBRT":MAILTO:info@fbrt.org.uk
END:VEVENT
BEGIN:VEVENT
DTSTART;TZID=Europe/London:20260625T180000
DTEND;TZID=Europe/London:20260629T200000
DTSTAMP:20260422T144243
CREATED:20260404T174956Z
LAST-MODIFIED:20260421T170011Z
UID:4843-1782410400-1782763200@www.fbrt.org.uk
SUMMARY:Swan Flight through the Seven Heavens of the Rosicrucian Mysteries: Fourth Heaven
DESCRIPTION:This hybrid event will be a 3-day site visit in Germany\, to Lüneburg and Rosengarten\, led by Oliver and Heidemarie Falldorf with Sarah Dawkins (26-28 June)\, with two Zoom talks by Peter Dawkins (25 June and 29 June) and a day-pilgrimage in England (27 June) facilitated by Donna Duncombe. \nThe event will be introduced with a talk on Zoom by Peter Dawkins on Thursday 25 June (6pm UK time)\, explaining the whys and wherefores of the event and the symbolic meaning of salt. (See ‘The Fourth Level of the Seven-Stepped Pyramid & Meaning of Salt in the Mystery Traditions‘.) \nA second talk on Zoom by Peter Dawkins will be on Monday 29 June (6pm UK time)\, giving some information about the 3-sided pyramid in Francis Bacon’s philosophy – a philosophy adopted by German Magian societies and other such societies across Europe. (See ‘The Three-sided Pyramids in Francis Bacon’s Work‘.) \nThis will be followed by a sharing of the experiences of the weekend and a discussion on a suitable date still to be arranged. \nTalks on Zoom by Peter Dawkins will be in English\, with concurrent translation into German by Heidemarie Falldorf.  \nTalks by Heidemarie and Oliver Falldorf on site will be in German\, but translated into English\, transcribed and shared for reading. \n~   ~   ~   ~   ~ \n2026 is the seventh year of a 12-year ‘end of time’ period (2020-2031)\, referred to as the Jupiter-Kalki-Kali cycle\, in which the world is being severely tested\, so as to bring about a repentance sufficient for divine mercy or grace to rescue human hearts\, minds and souls. During this time it is possible for human consciousness to be raised an octave\, note by note\, so as to be suitably inspired to do the right things\, the things that are needed to build a better world. \nTo help this process\, we are enacting a mystery in the landscape of Europe\, the throat chakra of the world\, in which the international Swan landscape temple of mainland Europe\, together with the more localised ‘Shakespeare Country’ Swan landscape temple in the British landscape zodiac play key roles. As the Swan flies metaphorically higher and higher\, it sounds the creative Word. This is the ‘Swan Flight’ and ‘Swan Song’. \nThe octave consists of seven full notes and five half-notes. Each full note is a level of the metaphorical/metaphysical ‘Pyramid’ that is being raised on the ‘Foundation Stone’ of the Exterland Zodiac\, a landscape zodiac centred on the Externsteine in Horn-Bad Meinberg\, Germany\, which functions as the throat chakra of the Swan of Europe. \nThe raising of the Pyramid symbolises the flight of the Swan and raising of consciousness\, which in turn is associated with the landscape stretching between the Exterland Zodiac\, the throat chakra of the Swan of Europe\, and the area of Schleswig\, the alta-major chakra of the Swan of Europe. This is a landscape replete with castles\, palaces\, parks and gardens full of Renaissance and Baroque Freemasonic-Rosicrucian symbolism. \nThe octave began in 2020 with the half-note E♭. 2021 sounded the first full note E\, which signified the first level of the Pyramid. 2022 sounded the second full note F\, which signified the second level of the Pyramid. 2024 sounded the third full note G\, which signified the third level of the Pyramid. For the fourth level\, the note A will be sounded and the fourth level of the Pyramid established. This ‘Swan Flight’ event of Zoom talks and site visits celebrates this fourth level. \nIn the European Mystery story\, the Swan is born as a result of the love affair of Europa and the Bull\, who are represented in the landscape by the British Isles (Europa) and mainland Europe (Bull). The Europa and Bull myth is the Dionysian myth\, wherein the bull-calf\, child of the bull and cow incarnatory symbolic forms of the god Zeus and goddess Athena (Britannia)\, is attacked by Titanic forces and torn apart\, but with its heart rescued by Pallas Athena\, helped by Zeus\, and raised to become the Swan\, Dionysus. Europe is acting out this myth right now. \nFor further details\, choices\, costs and booking\, see: Swan Flight : The Fourth Heaven. \nThe displayed picture is a coloured version of the Bride-Gemini headpiece printed in the 1624 Cryptomenytices et Cryptographiae by Gustavus Selenus (Augustus II\, the Duke of Brunswick-Lüneburg).
URL:https://www.fbrt.org.uk/event/the-swan-flight-through-the-seven-heavens-of-the-rosicrucian-mysteries-the-fourth-heaven/
CATEGORIES:Hybrid
ATTACH;FMTTYPE=image/jpeg:https://www.fbrt.org.uk/wp-content/uploads/2024/08/Bride_Gemini_headpiece_Cryptomentitices_1634_colour-scaled.jpg
ORGANIZER;CN="Alte Schule Sued Horsten":MAILTO:alteschulesuedhorsten@gmx.de
END:VEVENT
BEGIN:VEVENT
DTSTART;TZID=Europe/London:20260629T180000
DTEND;TZID=Europe/London:20260629T193000
DTSTAMP:20260422T144243
CREATED:20260421T162420Z
LAST-MODIFIED:20260421T170055Z
UID:4930-1782756000-1782761400@www.fbrt.org.uk
SUMMARY:The Three-sided Pyramids in Francis Bacon’s Work
DESCRIPTION:A talk on Zoom by Peter Dawkins explaining the use and symbolism of the two three-sided pyramids in the philosopher Sir Francis Bacon’s ‘Great Instauration’ – the work that is designed to bring about a “total reconstruction of the sciences\, arts\, and all human knowledge raised on proper foundations”. \nPeter will explain how this is a Rosy Cross (or Rosicrucian) work\, which was spread abroad and taken up by the Magian-come-Rosicrucian societies of Europe\, especially by those in the German States – a work that restores a state of paradise upon earth\, but coupled with the illumination of mankind\, wherein humanity knows the truth because it practices truth\, which truth is love in action. \nThe talk will be in English\, with concurrent translation into German by Heidemarie Falldorf. \nThis talk on Zoom forms part of the hybrid ‘Fourth Heaven’ event and is open to participants and non-participants. \nCost £15. To book\, please contact the FBRT Secretary: \nEmail: sarah@fbrt.org.uk. Tel: 01295 678 623. \nOn receipt of payment\, the Zoom link will be sent to you. \nA recording of the talk can be made available for attendees if requested\, as also for those who pay for the talk but do not attend it live on Zoom. Please contact the FBRT Secretary. \nThe displayed picture is a coloured version of the Bride-Gemini headpiece printed in the 1624 Cryptomenytices et Cryptographiae by Gustavus Selenus (Augustus II\, the Duke of Brunswick-Lüneburg).
URL:https://www.fbrt.org.uk/event/the-three-sided-pyramids-in-francis-bacons-work/
CATEGORIES:Zoom talk
ATTACH;FMTTYPE=image/jpeg:https://www.fbrt.org.uk/wp-content/uploads/2024/08/Bride_Gemini_headpiece_Cryptomentitices_1634_colour-scaled.jpg
ORGANIZER;CN="FBRT":MAILTO:info@fbrt.org.uk
END:VEVENT
END:VCALENDAR