BEGIN:VCALENDAR
VERSION:2.0
PRODID:-//Francis Bacon Research Trust - ECPv6.15.20//NONSGML v1.0//EN
CALSCALE:GREGORIAN
METHOD:PUBLISH
X-WR-CALNAME:Francis Bacon Research Trust
X-ORIGINAL-URL:https://www.fbrt.org.uk
X-WR-CALDESC:Events for Francis Bacon Research Trust
REFRESH-INTERVAL;VALUE=DURATION:PT1H
X-Robots-Tag:noindex
X-PUBLISHED-TTL:PT1H
BEGIN:VTIMEZONE
TZID:Europe/London
BEGIN:DAYLIGHT
TZOFFSETFROM:+0000
TZOFFSETTO:+0100
TZNAME:BST
DTSTART:20250330T010000
END:DAYLIGHT
BEGIN:STANDARD
TZOFFSETFROM:+0100
TZOFFSETTO:+0000
TZNAME:GMT
DTSTART:20251026T010000
END:STANDARD
BEGIN:DAYLIGHT
TZOFFSETFROM:+0000
TZOFFSETTO:+0100
TZNAME:BST
DTSTART:20260329T010000
END:DAYLIGHT
BEGIN:STANDARD
TZOFFSETFROM:+0100
TZOFFSETTO:+0000
TZNAME:GMT
DTSTART:20261025T010000
END:STANDARD
BEGIN:DAYLIGHT
TZOFFSETFROM:+0000
TZOFFSETTO:+0100
TZNAME:BST
DTSTART:20270328T010000
END:DAYLIGHT
BEGIN:STANDARD
TZOFFSETFROM:+0100
TZOFFSETTO:+0000
TZNAME:GMT
DTSTART:20271031T010000
END:STANDARD
END:VTIMEZONE
BEGIN:VEVENT
DTSTART;TZID=Europe/London:20260419T170000
DTEND;TZID=Europe/London:20260419T183000
DTSTAMP:20260419T150929
CREATED:20251110T165957Z
LAST-MODIFIED:20260318T131327Z
UID:4574-1776618000-1776623400@www.fbrt.org.uk
SUMMARY:The New Atlantis Bensalem and Rosicrucian College of the Six Days Work
DESCRIPTION:A talk on Zoom by Peter Dawkins about the New Atlantis of Francis Bacon’s utopian novel\, and what it really means and the places it cryptically points to in the world. \nWe shall also look at what all this means today\, and how New Atlantis is not only an account of what took place 400+ years ago but also a prophecy for the times we live in now. \nNew Atlantis has a mystical relationship with the Old Atlantis\, as referred to by Plato\, and as described in myths and legends. The two stories contain the idea of death and resurrection\, and the means by which this can happen. \nTo book\, please contact the Organiser (FBRT). \nIf booking accepted\, on receipt of payment\, the Zoom link will be sent to you. \nA recording of the talk (but not of the sharing afterwards) can be made available for attendees if requested\, as also for those who pay for the talk but do not attend it live on Zoom. Please contact the Organiser (FBRT). \nThe displayed picture is a coloured version of the Gemini-Bacony-Bride headpiece printed in the 1609 Shake-speares Sonnets.
URL:https://www.fbrt.org.uk/event/new-atlantis-college-of-the-six-days-work/
CATEGORIES:Zoom talk
ATTACH;FMTTYPE=image/jpeg:https://www.fbrt.org.uk/wp-content/uploads/2025/11/sh_sonnets_bride-gemini-bacony-headpiece_web.jpg
ORGANIZER;CN="FBRT":MAILTO:info@fbrt.org.uk
END:VEVENT
END:VCALENDAR